Workbook

Sheet Options and Criteria
A1: AHP Analytic Hierarchy Process
A2: Govind Seepersad &Camelia Ram Version 12.11.2011
A3: Objective | B3: To develop an objective ranking of Invasive Alien Species in the Greater Caribbean Area
A4: Author | B4: Govind Seepersad &Camelia Ram
A5: Date | B5: 40859
A6: Project Name | B6: Technical Working Group – Regional Priority Pest List (TWG-RPPL)
A8: Option Description | I8: Final Rank | J8: Overall Score
A9: A | B9: Bactrocera carambolae (Carambola Fruit Fly) | I9: =RANK('Value Calc'!B15,'Value Calc'!$B$15:$B$24,1) -> 9 | J9: ='Value Calc'!B15 -> 0.15304021
A10: B | B10: Fusarium oxysporum f.sp. cubense Race 4 (Banana Wilt) | I10: =RANK('Value Calc'!B16,'Value Calc'!$B$15:$B$24,1) -> 7 | J10: ='Value Calc'!B16 -> 0.13033209
A11: C | B11: Moniliopthora roreri (Cocoa Frosty Pod) | I11: =RANK('Value Calc'!B17,'Value Calc'!$B$15:$B$24,1) -> 4 | J11: ='Value Calc'!B17 -> 0.064825807
A12: D | B12: Tuta absoluta (Tomato Leaf Miner) | I12: =RANK('Value Calc'!B18,'Value Calc'!$B$15:$B$24,1) -> 6 | J12: ='Value Calc'!B18 -> 0.12572279
A13: E | B13: Ceratitis capitata (Meditteranean Fruit Fly) | I13: =RANK('Value Calc'!B19,'Value Calc'!$B$15:$B$24,1) -> 10 | J13: ='Value Calc'!B19 -> 0.16608205
A14: F | B14: Citrus leprosis virus | I14: =RANK('Value Calc'!B20,'Value Calc'!$B$15:$B$24,1) -> 2 | J14: ='Value Calc'!B20 -> 0.047702848
A15: G | B15: Xanthomonas citri subsp. citri (Citrus canker) | I15: =RANK('Value Calc'!B21,'Value Calc'!$B$15:$B$24,1) -> 3 | J15: ='Value Calc'!B21 -> 0.053053958
A16: H | B16: Mononychellus tanajoa (Cassava Mite) | I16: =RANK('Value Calc'!B22,'Value Calc'!$B$15:$B$24,1) -> 1 | J16: ='Value Calc'!B22 -> 0.045444603
A17: I | B17: Ralstonia solanaecearum (Races 2 {Moko Disease}& 3) | I17: =RANK('Value Calc'!B23,'Value Calc'!$B$15:$B$24,1) -> 8 | J17: ='Value Calc'!B23 -> 0.13803779
A18: J | B18: Rhynchophorus ferrugineus (Red Palm Weevil) | I18: =RANK('Value Calc'!B24,'Value Calc'!$B$15:$B$24,1) -> 5 | J18: ='Value Calc'!B24 -> 0.075757858
B20: Criterion 1 | C20: Criterion 2 | D20: Criterion 3 | E20: Criterion 4 | F20: Criterion 5 | G20: Criterion 6 | H20: Criterion 7
B21: Food Security | C21: Human Health | D21: Crop Health | E21: Aesthetic Value / Ecosystem Health | F21: Production Costs | G21: Foreign Trade / Exports | H21: Public Costs
B25: Fill in boxes shaded in green only

Sheet Weight Input
A2: Criterion | D2: Which is more important when A is compared with B? | E2: Intensity of Importance (1-9)
A3: A | C3: B
A4: ='Options and Criteria'!B21 -> Food Security | C4: ='Options and Criteria'!C$21 -> Human Health | D4: B | E4: 5
C5: ='Options and Criteria'!D$21 -> Crop Health | D5: A | E5: 5
C6: ='Options and Criteria'!E$21 -> Aesthetic Value / Ecosystem Health | D6: A | E6: 7
C7: ='Options and Criteria'!F$21 -> Production Costs | D7: A | E7: 1
C8: ='Options and Criteria'!G$21 -> Foreign Trade / Exports | D8: A | E8: 5
C9: ='Options and Criteria'!H$21 -> Public Costs | D9: A | E9: 5
A10: =C4 -> Human Health | C10: ='Options and Criteria'!D$21 -> Crop Health | D10: A | E10: 5
C11: ='Options and Criteria'!E$21 -> Aesthetic Value / Ecosystem Health | D11: A | E11: 7
C12: ='Options and Criteria'!F$21 -> Production Costs | D12: A | E12: 7
C13: ='Options and Criteria'!G$21 -> Foreign Trade / Exports | D13: A | E13: 5
C14: ='Options and Criteria'!H$21 -> Public Costs | D14: A | E14: 5
A15: =C5 -> Crop Health | C15: ='Options and Criteria'!E$21 -> Aesthetic Value / Ecosystem Health | D15: A | E15: 5
C16: ='Options and Criteria'!F$21 -> Production Costs | D16: B | E16: 3
C17: ='Options and Criteria'!G$21 -> Foreign Trade / Exports | D17: B | E17: 5
C18: ='Options and Criteria'!H$21 -> Public Costs | D18: A | E18: 3
A19: =C6 -> Aesthetic Value / Ecosystem Health | C19: ='Options and Criteria'!F$21 -> Production Costs | D19: A | E19: 3
C20: ='Options and Criteria'!G$21 -> Foreign Trade / Exports | D20: A | E20: 3
C21: ='Options and Criteria'!H$21 -> Public Costs | D21: A | E21: 3
A22: =C7 -> Production Costs | C22: ='Options and Criteria'!G$21 -> Foreign Trade / Exports | D22: A | E22: 3
C23: ='Options and Criteria'!H$21 -> Public Costs | D23: A | E23: 3
A24: =C8 -> Foreign Trade / Exports | C24: ='Options and Criteria'!H$21 -> Public Costs | D24: A | E24: 1

Sheet Values Input
A1: Criterion 1 | C1: How does option P perform when compared to option Q with respect to each criterion?
A2: ='Options and Criteria'!B21 -> Food Security | B2: Column1 | C2: A | D2: B | E2: C | F2: D | G2: E | H2: F | I2: G | J2: H | K2: I | L2: J | Y2: ='Options and Criteria'!A9 -> A | Z2: ='Options and Criteria'!B9 -> Bactrocera carambolae (Carambola Fruit Fly)
B3: A | C3: 1 | D3: 5 | E3: 5 | F3: 7 | G3: 8 | H3: 5 | I3: 7 | J3: 3 | K3: 5 | L3: 3 | Y3: ='Options and Criteria'!A10 -> B | Z3: ='Options and Criteria'!B10 -> Fusarium oxysporum f.sp. cubense Race 4 (Banana Wilt)
B4: B | C4: =IF(D3<>0,1/D3,"-") -> 0.2 | D4: 1 | E4: 9 | F4: 3 | G4: 1 | H4: 3 | I4: 9 | J4: 7 | K4: 5 | L4: 3 | Y4: ='Options and Criteria'!A11 -> C | Z4: ='Options and Criteria'!B11 -> Moniliopthora roreri (Cocoa Frosty Pod)
B5: C | C5: =IF(E3<>0,1/E3,"-") -> 0.2 | D5: =IF(E4<>0,1/E4,"-") -> 0.11111111 | E5: 1 | F5: 3 | G5: 1 | H5: 1 | I5: 5 | J5: 5 | K5: 7 | L5: 9 | Y5: ='Options and Criteria'!A12 -> D | Z5: ='Options and Criteria'!B12 -> Tuta absoluta (Tomato Leaf Miner)
B6: D | C6: =IF(F3<>0,1/F3,"-") -> 0.14285714 | D6: =IF(F4<>0,1/F4,"-") -> 0.33333333 | E6: =IF(F5<>0,1/F5,"-") -> 0.33333333 | F6: 1 | G6: 5 | H6: 5 | I6: 7 | J6: 5 | K6: 5 | L6: 7 | Y6: ='Options and Criteria'!A13 -> E | Z6: ='Options and Criteria'!B13 -> Ceratitis capitata (Meditteranean Fruit Fly)
B7: E | C7: =IF(G3<>0,1/G3,"-") -> 0.125 | D7: =IF(G4<>0,1/G4,"-") -> 1 | E7: =IF(G5<>0,1/G5,"-") -> 1 | F7: =IF(G6<>0,1/G6,"-") -> 0.2 | G7: 1 | H7: 7 | I7: 9 | J7: 3 | K7: 5 | L7: 7 | Y7: ='Options and Criteria'!A14 -> F | Z7: ='Options and Criteria'!B14 -> Citrus leprosis virus
B8: F | C8: =IF(H3<>0,1/H3,"-") -> 0.2 | D8: =IF(H4<>0,1/H4,"-") -> 0.33333333 | E8: =IF(H5<>0,1/H5,"-") -> 1 | F8: =IF(H6<>0,1/H6,"-") -> 0.2 | G8: =IF(H7<>0,1/H7,"-") -> 0.14285714 | H8: 1 | I8: 1 | J8: 3 | K8: 5 | L8: 7 | Y8: ='Options and Criteria'!A15 -> G | Z8: ='Options and Criteria'!B15 -> Xanthomonas citri subsp. citri (Citrus canker)
B9: G | C9: =IF(I3<>0,1/I3,"-") -> 0.14285714 | D9: =IF(I4<>0,1/I4,"-") -> 0.11111111 | E9: =IF(I5<>0,1/I5,"-") -> 0.2 | F9: =IF(I6<>0,1/I6,"-") -> 0.14285714 | G9: =IF(I7<>0,1/I7,"-") -> 0.11111111 | H9: =IF(I8<>0,1/I8,"-") -> 1 | I9: 1 | J9: 5 | K9: 3 | L9: 7 | Y9: ='Options and Criteria'!A16 -> H | Z9: ='Options and Criteria'!B16 -> Mononychellus tanajoa (Cassava Mite)
B10: H | C10: =IF(J3<>0,1/J3,"-") -> 0.33333333 | D10: =IF(J4<>0,1/J4,"-") -> 0.14285714 | E10: =IF(J5<>0,1/J5,"-") -> 0.2 | F10: =IF(J6<>0,1/J6,"-") -> 0.2 | G10: =IF(J7<>0,1/J7,"-") -> 0.33333333 | H10: =IF(J8<>0,1/J8,"-") -> 0.33333333 | I10: =IF(J9<>0,1/J9,"-") -> 0.2 | J10: 1 | K10: 3 | L10: 5 | Y10: ='Options and Criteria'!A17 -> I | Z10: ='Options and Criteria'!B17 -> Ralstonia solanaecearum (Races 2 {Moko Disease}& 3)
B11: I | C11: =IF(K3<>0,1/K3,"-") -> 0.2 | D11: =IF(K4<>0,1/K4,"-") -> 0.2 | E11: =IF(K5<>0,1/K5,"-") -> 0.14285714 | F11: =IF(K6<>0,1/K6,"-") -> 0.2 | G11: =IF(K7<>0,1/K7,"-") -> 0.2 | H11: =IF(K8<>0,1/K8,"-") -> 0.2 | I11: =IF(K9<>0,1/K9,"-") -> 0.33333333 | J11: =IF(K10<>0,1/K10,"-") -> 0.33333333 | K11: 1 | L11: 1 | Y11: ='Options and Criteria'!A18 -> J | Z11: ='Options and Criteria'!B18 -> Rhynchophorus ferrugineus (Red Palm Weevil)
B12: J | C12: =IF(L3<>0,1/L3,"-") -> 0.33333333 | D12: =IF(L4<>0,1/L4,"-") -> 0.33333333 | E12: =IF(L5<>0,1/L5,"-") -> 0.11111111 | F12: =IF(L6<>0,1/L6,"-") -> 0.14285714 | G12: =IF(L7<>0,1/L7,"-") -> 0.14285714 | H12: =IF(L8<>0,1/L8,"-") -> 0.14285714 | I12: =IF(L9<>0,1/L9,"-") -> 0.14285714 | J12: =IF(L10<>0,1/L10,"-") -> 0.2 | K12: =IF(L11<>0,1/L11,"-") -> 1 | L12: 1
A15: Criterion 2
A16: ='Options and Criteria'!C21 -> Human Health | B16: Column1 | C16: A | D16: B | E16: C | F16: D | G16: E | H16: F | I16: G | J16: H | K16: I | L16: J
B17: A | C17: 1 | D17: 3 | E17: 5 | F17: =1/3 -> 0.33333333 | G17: 1 | H17: 3 | I17: 3 | J17: 3 | K17: 1 | L17: 3
B18: B | C18: =IF(D17<>0,1/D17,"-") -> 0.33333333 | D18: 1 | E18: 5 | F18: 1 | G18: =1/3 -> 0.33333333 | H18: 5 | I18: 5 | J18: 1 | K18: =1/5 -> 0.2 | L18: 3
B19: C | C19: =IF(E17<>0,1/E17,"-") -> 0.2 | D19: =IF(E18<>0,1/E18,"-") -> 0.2 | E19: 1 | F19: =1/3 -> 0.33333333 | G19: =1/3 -> 0.33333333 | H19: =1/3 -> 0.33333333 | I19: =1/3 -> 0.33333333 | J19: =1/3 -> 0.33333333 | K19: =1/5 -> 0.2 | L19: =1/3 -> 0.33333333
B20: D | C20: =IF(F17<>0,1/F17,"-") -> 3 | D20: =IF(F18<>0,1/F18,"-") -> 1 | E20: =IF(F19<>0,1/F19,"-") -> 3 | F20: 1 | G20: 1 | H20: 3 | I20: 3 | J20: 3 | K20: 1 | L20: 5
B21: E | C21: =IF(G17<>0,1/G17,"-") -> 1 | D21: =IF(G18<>0,1/G18,"-") -> 3 | E21: =IF(G19<>0,1/G19,"-") -> 3 | F21: =IF(G20<>0,1/G20,"-") -> 1 | G21: 1 | H21: 5 | I21: 5 | J21: 5 | K21: 1 | L21: 3
B22: F | C22: =IF(H17<>0,1/H17,"-") -> 0.33333333 | D22: =IF(H18<>0,1/H18,"-") -> 0.2 | E22: =IF(H19<>0,1/H19,"-") -> 3 | F22: =IF(H20<>0,1/H20,"-") -> 0.33333333 | G22: =IF(H21<>0,1/H21,"-") -> 0.2 | H22: 1 | I22: 1 | J22: 1 | K22: =1/3 -> 0.33333333 | L22: =1/3 -> 0.33333333
B23: G | C23: =IF(I17<>0,1/I17,"-") -> 0.33333333 | D23: =IF(I18<>0,1/I18,"-") -> 0.2 | E23: =IF(I19<>0,1/I19,"-") -> 3 | F23: =IF(I20<>0,1/I20,"-") -> 0.33333333 | G23: =IF(I21<>0,1/I21,"-") -> 0.2 | H23: =IF(I22<>0,1/I22,"-") -> 1 | I23: 1 | J23: 1 | K23: =1/3 -> 0.33333333 | L23: =1/3 -> 0.33333333
B24: H | C24: =IF(J17<>0,1/J17,"-") -> 0.33333333 | D24: =IF(J18<>0,1/J18,"-") -> 1 | E24: =IF(J19<>0,1/J19,"-") -> 3 | F24: =IF(J20<>0,1/J20,"-") -> 0.33333333 | G24: =IF(J21<>0,1/J21,"-") -> 0.2 | H24: =IF(J22<>0,1/J22,"-") -> 1 | I24: =IF(J23<>0,1/J23,"-") -> 1 | J24: 1 | K24: =1/3 -> 0.33333333 | L24: =1/3 -> 0.33333333
B25: I | C25: =IF(K17<>0,1/K17,"-") -> 1 | D25: =IF(K18<>0,1/K18,"-") -> 5 | E25: =IF(K19<>0,1/K19,"-") -> 5 | F25: =IF(K20<>0,1/K20,"-") -> 1 | G25: =IF(K21<>0,1/K21,"-") -> 1 | H25: =IF(K22<>0,1/K22,"-") -> 3 | I25: =IF(K23<>0,1/K23,"-") -> 3 | J25: =IF(K24<>0,1/K24,"-") -> 3 | K25: 1 | L25: 5
B26: J | C26: =IF(L17<>0,1/L17,"-") -> 0.33333333 | D26: =IF(L18<>0,1/L18,"-") -> 0.33333333 | E26: =IF(L19<>0,1/L19,"-") -> 3 | F26: =IF(L20<>0,1/L20,"-") -> 0.2 | G26: =IF(L21<>0,1/L21,"-") -> 0.33333333 | H26: =IF(L22<>0,1/L22,"-") -> 3 | I26: =IF(L23<>0,1/L23,"-") -> 3 | J26: =IF(L24<>0,1/L24,"-") -> 3 | K26: =IF(L25<>0,1/L25,"-") -> 0.2 | L26: 1
A30: Criterion 3
A31: ='Options and Criteria'!D21 -> Crop Health | B31: Column1 | C31: A | D31: B | E31: C | F31: D | G31: E | H31: F | I31: G | J31: H | K31: I | L31: J
B32: A | C32: 1 | D32: =1/7 -> 0.14285714 | E32: 5 | F32: 1 | G32: 1 | H32: 3 | I32: =1/5 -> 0.2 | J32: 5 | K32: =1/3 -> 0.33333333 | L32: =1/7 -> 0.14285714
B33: B | C33: =IF(D32<>0,1/D32,"-") -> 7 | D33: 1 | E33: 1 | F33: =1/3 -> 0.33333333 | G33: 1 | H33: 7 | I33: 5 | J33: 7 | K33: 1 | L33: 1
B34: C | C34: =IF(E32<>0,1/E32,"-") -> 0.2 | D34: =IF(E33<>0,1/E33,"-") -> 1 | E34: 1 | F34: =1/5 -> 0.2 | G34: 1 | H34: 1 | I34: 1 | J34: 7 | K34: 1 | L34: 1
B35: D | C35: =IF(F32<>0,1/F32,"-") -> 1 | D35: =IF(F33<>0,1/F33,"-") -> 3 | E35: =IF(F34<>0,1/F34,"-") -> 5 | F35: 1 | G35: 1 | H35: 3 | I35: 1 | J35: 5 | K35: =1/5 -> 0.2 | L35: =1/5 -> 0.2
B36: E | C36: =IF(G32<>0,1/G32,"-") -> 1 | D36: =IF(G33<>0,1/G33,"-") -> 1 | E36: =IF(G34<>0,1/G34,"-") -> 1 | F36: =IF(G35<>0,1/G35,"-") -> 1 | G36: 1 | H36: 3 | I36: 5 | J36: 7 | K36: =1/3 -> 0.33333333 | L36: 1
B37: F | C37: =IF(H32<>0,1/H32,"-") -> 0.33333333 | D37: =IF(H33<>0,1/H33,"-") -> 0.14285714 | E37: =IF(H34<>0,1/H34,"-") -> 1 | F37: =IF(H35<>0,1/H35,"-") -> 0.33333333 | G37: =IF(H36<>0,1/H36,"-") -> 0.33333333 | H37: 1 | I37: 1 | J37: 5 | K37: =1/3 -> 0.33333333 | L37: 1
B38: G | C38: =IF(I32<>0,1/I32,"-") -> 5 | D38: =IF(I33<>0,1/I33,"-") -> 0.2 | E38: =IF(I34<>0,1/I34,"-") -> 1 | F38: =IF(I35<>0,1/I35,"-") -> 1 | G38: =IF(I36<>0,1/I36,"-") -> 0.2 | H38: =IF(I37<>0,1/I37,"-") -> 1 | I38: 1 | J38: 5 | K38: =1/5 -> 0.2 | L38: 1
B39: H | C39: =IF(J32<>0,1/J32,"-") -> 0.2 | D39: =IF(J33<>0,1/J33,"-") -> 0.14285714 | E39: =IF(J34<>0,1/J34,"-") -> 0.14285714 | F39: =IF(J35<>0,1/J35,"-") -> 0.2 | G39: =IF(J36<>0,1/J36,"-") -> 0.14285714 | H39: =IF(J37<>0,1/J37,"-") -> 0.2 | I39: =IF(J38<>0,1/J38,"-") -> 0.2 | J39: 1 | K39: =1/7 -> 0.14285714 | L39: =1/5 -> 0.2
B40: I | C40: =IF(K32<>0,1/K32,"-") -> 3 | D40: =IF(K33<>0,1/K33,"-") -> 1 | E40: =IF(K34<>0,1/K34,"-") -> 1 | F40: =IF(K35<>0,1/K35,"-") -> 5 | G40: =IF(K36<>0,1/K36,"-") -> 3 | H40: =IF(K37<>0,1/K37,"-") -> 3 | I40: =IF(K38<>0,1/K38,"-") -> 5 | J40: =IF(K39<>0,1/K39,"-") -> 7 | K40: 1 | L40: 1
B41: J | C41: =IF(L32<>0,1/L32,"-") -> 7 | D41: =IF(L33<>0,1/L33,"-") -> 1 | E41: =IF(L34<>0,1/L34,"-") -> 1 | F41: =IF(L35<>0,1/L35,"-") -> 5 | G41: =IF(L36<>0,1/L36,"-") -> 1 | H41: =IF(L37<>0,1/L37,"-") -> 1 | I41: =IF(L38<>0,1/L38,"-") -> 1 | J41: =IF(L39<>0,1/L39,"-") -> 5 | K41: =IF(L40<>0,1/L40,"-") -> 1 | L41: 1
A44: Criterion 4
A45: ='Options and Criteria'!E21 -> Aesthetic Value / Ecosystem Health | B45: Column1 | C45: A | D45: B | E45: C | F45: D | G45: E | H45: F | I45: G | J45: H | K45: I | L45: J
B46: A | C46: 1 | D46: 0.33333333 | E46: 3 | F46: 1 | G46: 1 | H46: 3 | I46: 0.33333333 | J46: 1 | K46: 0.33333333 | L46: 0.14285714
B47: B | C47: =IF(D46<>0,1/D46,"-") -> 3 | D47: 1 | E47: 7 | F47: 5 | G47: 5 | H47: 5 | I47: 3 | J47: 3 | K47: 1 | L47: 0.2
B48: C | C48: =IF(E46<>0,1/E46,"-") -> 0.33333333 | D48: =IF(E47<>0,1/E47,"-") -> 0.14285714 | E48: 1 | F48: 0.33333333 | G48: 0.2 | H48: 1 | I48: 1 | J48: 0.33333333 | K48: 0.2 | L48: 0.14285714
B49: D | C49: =IF(F46<>0,1/F46,"-") -> 1 | D49: =IF(F47<>0,1/F47,"-") -> 0.2 | E49: =IF(F48<>0,1/F48,"-") -> 3 | F49: 1 | G49: 0.33333333 | H49: 3 | I49: 1 | J49: 1 | K49: 0.33333333 | L49: 0.14285714
B50: E | C50: =IF(G46<>0,1/G46,"-") -> 1 | D50: =IF(G47<>0,1/G47,"-") -> 0.2 | E50: =IF(G48<>0,1/G48,"-") -> 5 | F50: =IF(G49<>0,1/G49,"-") -> 3 | G50: 1 | H50: 5 | I50: 3 | J50: 3 | K50: 1 | L50: 0.2
B51: F | C51: =IF(H46<>0,1/H46,"-") -> 0.33333333 | D51: =IF(H47<>0,1/H47,"-") -> 0.2 | E51: =IF(H48<>0,1/H48,"-") -> 1 | F51: =IF(H49<>0,1/H49,"-") -> 0.33333333 | G51: =IF(H50<>0,1/H50,"-") -> 0.2 | H51: 1 | I51: 0.33333333 | J51: 1 | K51: 0.2 | L51: 0.14285714
B52: G | C52: =IF(I46<>0,1/I46,"-") -> 3 | D52: =IF(I47<>0,1/I47,"-") -> 0.33333333 | E52: =IF(I48<>0,1/I48,"-") -> 1 | F52: =IF(I49<>0,1/I49,"-") -> 1 | G52: =IF(I50<>0,1/I50,"-") -> 0.33333333 | H52: =IF(I51<>0,1/I51,"-") -> 3 | I52: 1 | J52: 1 | K52: 0.33333333 | L52: 0.14285714
B53: H | C53: =IF(J46<>0,1/J46,"-") -> 1 | D53: =IF(J47<>0,1/J47,"-") -> 0.33333333 | E53: =IF(J48<>0,1/J48,"-") -> 3 | F53: =IF(J49<>0,1/J49,"-") -> 1 | G53: =IF(J50<>0,1/J50,"-") -> 0.33333333 | H53: =IF(J51<>0,1/J51,"-") -> 1 | I53: =IF(J52<>0,1/J52,"-") -> 1 | J53: 1 | K53: 0.33333333 | L53: 0.14285714
B54: I | C54: =IF(K46<>0,1/K46,"-") -> 3 | D54: =IF(K47<>0,1/K47,"-") -> 1 | E54: =IF(K48<>0,1/K48,"-") -> 5 | F54: =IF(K49<>0,1/K49,"-") -> 3 | G54: =IF(K50<>0,1/K50,"-") -> 1 | H54: =IF(K51<>0,1/K51,"-") -> 5 | I54: =IF(K52<>0,1/K52,"-") -> 3 | J54: =IF(K53<>0,1/K53,"-") -> 3 | K54: 1 | L54: 0.33333333
B55: J | C55: =IF(L46<>0,1/L46,"-") -> 7 | D55: =IF(L47<>0,1/L47,"-") -> 5 | E55: =IF(L48<>0,1/L48,"-") -> 7 | F55: =IF(L49<>0,1/L49,"-") -> 7 | G55: =IF(L50<>0,1/L50,"-") -> 5 | H55: =IF(L51<>0,1/L51,"-") -> 7 | I55: =IF(L52<>0,1/L52,"-") -> 7 | J55: =IF(L53<>0,1/L53,"-") -> 7 | K55: =IF(L54<>0,1/L54,"-") -> 3 | L55: 1
A58: Criterion 5
A59: ='Options and Criteria'!F21 -> Production Costs | B59: Column1 | C59: A | D59: B | E59: C | F59: D | G59: E | H59: F | I59: G | J59: H | K59: I | L59: J
B60: A | C60: 1 | D60: 1 | E60: 5 | F60: 3 | G60: 0.33333333 | H60: 3 | I60: 1 | J60: 0.33333333 | K60: 1 | L60: 3
B61: B | C61: =IF(D60<>0,1/D60,"-") -> 1 | D61: 1 | E61: 3 | F61: 1 | G61: 0.2 | H61: 1 | I61: 1 | J61: 3 | K61: 0.33333333 | L61: 3
B62: C | C62: =IF(E60<>0,1/E60,"-") -> 0.2 | D62: =IF(E61<>0,1/E61,"-") -> 0.33333333 | E62: 1 | F62: 0.33333333 | G62: 0.2 | H62: 0.33333333 | I62: 0.2 | J62: 0.33333333 | K62: 0.33333333 | L62: 3
B63: D | C63: =IF(F60<>0,1/F60,"-") -> 0.33333333 | D63: =IF(F61<>0,1/F61,"-") -> 1 | E63: =IF(F62<>0,1/F62,"-") -> 3 | F63: 1 | G63: 0.2 | H63: 1 | I63: 0.33333333 | J63: 1 | K63: 0.33333333 | L63: 3
B64: E | C64: =IF(G60<>0,1/G60,"-") -> 3 | D64: =IF(G61<>0,1/G61,"-") -> 5 | E64: =IF(G62<>0,1/G62,"-") -> 5 | F64: =IF(G63<>0,1/G63,"-") -> 5 | G64: 1 | H64: 5 | I64: 5 | J64: 3 | K64: 3 | L64: 5
B65: F | C65: =IF(H60<>0,1/H60,"-") -> 0.33333333 | D65: =IF(H61<>0,1/H61,"-") -> 1 | E65: =IF(H62<>0,1/H62,"-") -> 3 | F65: =IF(H63<>0,1/H63,"-") -> 1 | G65: =IF(H64<>0,1/H64,"-") -> 0.2 | H65: 1 | I65: 0.33333333 | J65: 0.33333333 | K65: 0.33333333 | L65: 3
B66: G | C66: =IF(I60<>0,1/I60,"-") -> 1 | D66: =IF(I61<>0,1/I61,"-") -> 1 | E66: =IF(I62<>0,1/I62,"-") -> 5 | F66: =IF(I63<>0,1/I63,"-") -> 3 | G66: =IF(I64<>0,1/I64,"-") -> 0.2 | H66: =IF(I65<>0,1/I65,"-") -> 3 | I66: 1 | J66: 3 | K66: 1 | L66: 3
B67: H | C67: =IF(J60<>0,1/J60,"-") -> 3 | D67: =IF(J61<>0,1/J61,"-") -> 0.33333333 | E67: =IF(J62<>0,1/J62,"-") -> 3 | F67: =IF(J63<>0,1/J63,"-") -> 1 | G67: =IF(J64<>0,1/J64,"-") -> 0.33333333 | H67: =IF(J65<>0,1/J65,"-") -> 3 | I67: =IF(J66<>0,1/J66,"-") -> 0.33333333 | J67: 1 | K67: 0.33333333 | L67: 3
B68: I | C68: =IF(K60<>0,1/K60,"-") -> 1 | D68: =IF(K61<>0,1/K61,"-") -> 3 | E68: =IF(K62<>0,1/K62,"-") -> 3 | F68: =IF(K63<>0,1/K63,"-") -> 3 | G68: =IF(K64<>0,1/K64,"-") -> 0.33333333 | H68: =IF(K65<>0,1/K65,"-") -> 3 | I68: =IF(K66<>0,1/K66,"-") -> 1 | J68: =IF(K67<>0,1/K67,"-") -> 3 | K68: 1 | L68: 3
B69: J | C69: =IF(L60<>0,1/L60,"-") -> 0.33333333 | D69: =IF(L61<>0,1/L61,"-") -> 0.33333333 | E69: =IF(L62<>0,1/L62,"-") -> 0.33333333 | F69: =IF(L63<>0,1/L63,"-") -> 0.33333333 | G69: =IF(L64<>0,1/L64,"-") -> 0.2 | H69: =IF(L65<>0,1/L65,"-") -> 0.33333333 | I69: =IF(L66<>0,1/L66,"-") -> 0.33333333 | J69: =IF(L67<>0,1/L67,"-") -> 0.33333333 | K69: =IF(L68<>0,1/L68,"-") -> 0.33333333 | L69: 1
A72: Criterion 6
A73: ='Options and Criteria'!G21 -> Foreign Trade / Exports | B73: Column1 | C73: A | D73: B | E73: C | F73: D | G73: E | H73: F | I73: G | J73: H | K73: I | L73: J
B74: A | C74: 1 | D74: =1/7 -> 0.14285714 | E74: =1/7 -> 0.14285714 | F74: 1 | G74: 1 | H74: 3 | I74: 3 | J74: 5 | K74: =1/5 -> 0.2 | L74: 7
B75: B | C75: =IF(D74<>0,1/D74,"-") -> 7 | D75: 1 | E75: 1 | F75: 5 | G75: 1 | H75: 5 | I75: 5 | J75: 5 | K75: =1/3 -> 0.33333333 | L75: 9
B76: C | C76: =IF(E74<>0,1/E74,"-") -> 7 | D76: =IF(E75<>0,1/E75,"-") -> 1 | E76: 1 | F76: 5 | G76: 1 | H76: 7 | I76: 7 | J76: 7 | K76: 4 | L76: 8
B77: D | C77: =IF(F74<>0,1/F74,"-") -> 1 | D77: =IF(F75<>0,1/F75,"-") -> 0.2 | E77: =IF(F76<>0,1/F76,"-") -> 0.2 | F77: 1 | G77: 1 | H77: 5 | I77: 5 | J77: 5 | K77: 1 | L77: 7
B78: E | C78: =IF(G74<>0,1/G74,"-") -> 1 | D78: =IF(G75<>0,1/G75,"-") -> 1 | E78: =IF(G76<>0,1/G76,"-") -> 1 | F78: =IF(G77<>0,1/G77,"-") -> 1 | G78: 1 | H78: 7 | I78: 7 | J78: 7 | K78: 1 | L78: 7
B79: F | C79: =IF(H74<>0,1/H74,"-") -> 0.33333333 | D79: =IF(H75<>0,1/H75,"-") -> 0.2 | E79: =IF(H76<>0,1/H76,"-") -> 0.14285714 | F79: =IF(H77<>0,1/H77,"-") -> 0.2 | G79: =IF(H78<>0,1/H78,"-") -> 0.14285714 | H79: 1 | I79: 3 | J79: =1/3 -> 0.33333333 | K79: =1/5 -> 0.2 | L79: 3
B80: G | C80: =IF(I74<>0,1/I74,"-") -> 0.33333333 | D80: =IF(I75<>0,1/I75,"-") -> 0.2 | E80: =IF(I76<>0,1/I76,"-") -> 0.14285714 | F80: =IF(I77<>0,1/I77,"-") -> 0.2 | G80: =IF(I78<>0,1/I78,"-") -> 0.14285714 | H80: =IF(I79<>0,1/I79,"-") -> 0.33333333 | I80: 1 | J80: =1/3 -> 0.33333333 | K80: =1/5 -> 0.2 | L80: 3
B81: H | C81: =IF(J74<>0,1/J74,"-") -> 0.2 | D81: =IF(J75<>0,1/J75,"-") -> 0.2 | E81: =IF(J76<>0,1/J76,"-") -> 0.14285714 | F81: =IF(J77<>0,1/J77,"-") -> 0.2 | G81: =IF(J78<>0,1/J78,"-") -> 0.14285714 | H81: =IF(J79<>0,1/J79,"-") -> 3 | I81: =IF(J80<>0,1/J80,"-") -> 3 | J81: 1 | K81: =1/5 -> 0.2 | L81: 5
B82: I | C82: =IF(K74<>0,1/K74,"-") -> 5 | D82: =IF(K75<>0,1/K75,"-") -> 3 | E82: =IF(K76<>0,1/K76,"-") -> 0.25 | F82: =IF(K77<>0,1/K77,"-") -> 1 | G82: =IF(K78<>0,1/K78,"-") -> 1 | H82: =IF(K79<>0,1/K79,"-") -> 5 | I82: =IF(K80<>0,1/K80,"-") -> 5 | J82: =IF(K81<>0,1/K81,"-") -> 5 | K82: 1 | L82: 7
B83: J | C83: =IF(L74<>0,1/L74,"-") -> 0.14285714 | D83: =IF(L75<>0,1/L75,"-") -> 0.11111111 | E83: =IF(L76<>0,1/L76,"-") -> 0.125 | F83: =IF(L77<>0,1/L77,"-") -> 0.14285714 | G83: =IF(L78<>0,1/L78,"-") -> 0.14285714 | H83: =IF(L79<>0,1/L79,"-") -> 0.33333333 | I83: =IF(L80<>0,1/L80,"-") -> 0.33333333 | J83: =IF(L81<>0,1/L81,"-") -> 0.2 | K83: =IF(L82<>0,1/L82,"-") -> 0.14285714 | L83: 1
A87: Criterion 7
A88: ='Options and Criteria'!H21 -> Public Costs | B88: Column1 | C88: A | D88: B | E88: C | F88: D | G88: E | H88: F | I88: G | J88: H | K88: I | L88: J
B89: A | C89: 1 | D89: =1/7 -> 0.14285714 | E89: =1/4 -> 0.25 | F89: =1/6 -> 0.16666667 | G89: =1/7 -> 0.14285714 | H89: =1/5 -> 0.2 | I89: =1/4 -> 0.25 | J89: 3 | K89: =1/3 -> 0.33333333 | L89: =1/3 -> 0.33333333
B90: B | C90: =IF(D89<>0,1/D89,"-") -> 7 | D90: 1 | E90: 1 | F90: 1 | G90: 1 | H90: 1 | I90: 2 | J90: 4 | K90: 1 | L90: 3
B91: C | C91: =IF(E89<>0,1/E89,"-") -> 4 | D91: =IF(E90<>0,1/E90,"-") -> 1 | E91: 1 | F91: 3 | G91: 5 | H91: 1 | I91: 1 | J91: 3 | K91: =1/2 -> 0.5 | L91: 1
B92: D | C92: =IF(F89<>0,1/F89,"-") -> 6 | D92: =IF(F90<>0,1/F90,"-") -> 1 | E92: =IF(F91<>0,1/F91,"-") -> 0.33333333 | F92: 1 | G92: =1/3 -> 0.33333333 | H92: =1/2 -> 0.5 | I92: =1/2 -> 0.5 | J92: 3 | K92: =1/3 -> 0.33333333 | L92: 1
B93: E | C93: =IF(G89<>0,1/G89,"-") -> 7 | D93: =IF(G90<>0,1/G90,"-") -> 1 | E93: =IF(G91<>0,1/G91,"-") -> 0.2 | F93: =IF(G92<>0,1/G92,"-") -> 3 | G93: 1 | H93: 2 | I93: 2 | J93: 5 | K93: 2 | L93: 2
B94: F | C94: =IF(H89<>0,1/H89,"-") -> 5 | D94: =IF(H90<>0,1/H90,"-") -> 1 | E94: =IF(H91<>0,1/H91,"-") -> 1 | F94: =IF(H92<>0,1/H92,"-") -> 2 | G94: =IF(H93<>0,1/H93,"-") -> 0.5 | H94: 1 | I94: 1 | J94: 3 | K94: =1/3 -> 0.33333333 | L94: =1/2 -> 0.5
B95: G | C95: =IF(I89<>0,1/I89,"-") -> 4 | D95: =IF(I90<>0,1/I90,"-") -> 0.5 | E95: =IF(I91<>0,1/I91,"-") -> 1 | F95: =IF(I92<>0,1/I92,"-") -> 2 | G95: =IF(I93<>0,1/I93,"-") -> 0.5 | H95: =IF(I94<>0,1/I94,"-") -> 1 | I95: 1 | J95: =1/3 -> 0.33333333 | K95: =1/2 -> 0.5 | L95: =1/3 -> 0.33333333
B96: H | C96: =IF(J89<>0,1/J89,"-") -> 0.33333333 | D96: =IF(J90<>0,1/J90,"-") -> 0.25 | E96: =IF(J91<>0,1/J91,"-") -> 0.33333333 | F96: =IF(J92<>0,1/J92,"-") -> 0.33333333 | G96: =IF(J93<>0,1/J93,"-") -> 0.2 | H96: =IF(J94<>0,1/J94,"-") -> 0.33333333 | I96: =IF(J95<>0,1/J95,"-") -> 3 | J96: 1 | K96: =1/5 -> 0.2 | L96: =1/5 -> 0.2
B97: I | C97: =IF(K89<>0,1/K89,"-") -> 3 | D97: =IF(K90<>0,1/K90,"-") -> 1 | E97: =IF(K91<>0,1/K91,"-") -> 2 | F97: =IF(K92<>0,1/K92,"-") -> 3 | G97: =IF(K93<>0,1/K93,"-") -> 0.5 | H97: =IF(K94<>0,1/K94,"-") -> 3 | I97: =IF(K95<>0,1/K95,"-") -> 2 | J97: =IF(K96<>0,1/K96,"-") -> 5 | K97: 1 | L97: 2
B98: J | C98: =IF(L89<>0,1/L89,"-") -> 3 | D98: =IF(L90<>0,1/L90,"-") -> 0.33333333 | E98: =IF(L91<>0,1/L91,"-") -> 1 | F98: =IF(L92<>0,1/L92,"-") -> 1 | G98: =IF(L93<>0,1/L93,"-") -> 0.5 | H98: =IF(L94<>0,1/L94,"-") -> 2 | I98: =IF(L95<>0,1/L95,"-") -> 3 | J98: =IF(L96<>0,1/L96,"-") -> 5 | K98: =IF(L97<>0,1/L97,"-") -> 0.5 | L98: 1

Sheet Weight Calc
A2: Matrix | B2: =A3 -> Food Security | C2: =A4 -> Human Health | D2: =A5 -> Crop Health | E2: =A6 -> Aesthetic Value / Ecosystem Health | F2: =A7 -> Production Costs | G2: =A8 -> Foreign Trade / Exports | H2: =A9 -> Public Costs
A3: ='Options and Criteria'!B$21 -> Food Security | B3: 1 | C3: =IF('Weight Input'!$D4="A",'Weight Input'!$E4,IF('Weight Input'!$D4="B",1/'Weight Input'!$E4)) -> 0.2 | D3: =IF('Weight Input'!$D5="A",'Weight Input'!$E5,IF('Weight Input'!$D5="B",1/'Weight Input'!$E5)) -> 5 | E3: =IF('Weight Input'!$D6="A",'Weight Input'!$E6,IF('Weight Input'!$D6="B",1/'Weight Input'!$E6)) -> 7 | F3: =IF('Weight Input'!$D7="A",'Weight Input'!$E7,IF('Weight Input'!$D7="B",1/'Weight Input'!$E7)) -> 1 | G3: =IF('Weight Input'!$D8="A",'Weight Input'!$E8,IF('Weight Input'!$D8="B",1/'Weight Input'!$E8)) -> 5 | H3: =IF('Weight Input'!$D9="A",'Weight Input'!$E9,IF('Weight Input'!$D9="B",1/'Weight Input'!$E9)) -> 5
A4: ='Options and Criteria'!C$21 -> Human Health | B4: =IF(C$3<>0,1/C$3,"-") -> 5 | C4: 1 | D4: =IF('Weight Input'!$D10="A",'Weight Input'!$E10,IF('Weight Input'!$D10="B",1/'Weight Input'!$E10)) -> 5 | E4: =IF('Weight Input'!$D11="A",'Weight Input'!$E11,IF('Weight Input'!$D11="B",1/'Weight Input'!$E11)) -> 7 | F4: =IF('Weight Input'!$D12="A",'Weight Input'!$E12,IF('Weight Input'!$D12="B",1/'Weight Input'!$E12)) -> 7 | G4: =IF('Weight Input'!$D13="A",'Weight Input'!$E13,IF('Weight Input'!$D13="B",1/'Weight Input'!$E13)) -> 5 | H4: =IF('Weight Input'!$D14="A",'Weight Input'!$E14,IF('Weight Input'!$D14="B",1/'Weight Input'!$E14)) -> 5
A5: ='Options and Criteria'!D$21 -> Crop Health | B5: =IF(D$3<>0,1/D$3,"-") -> 0.2 | C5: =IF(D$4<>0,1/D$4,"-") -> 0.2 | D5: 1 | E5: =IF('Weight Input'!$D15="A",'Weight Input'!$E15,IF('Weight Input'!$D15="B",1/'Weight Input'!$E15)) -> 5 | F5: =IF('Weight Input'!$D16="A",'Weight Input'!$E16,IF('Weight Input'!$D16="B",1/'Weight Input'!$E16)) -> 0.33333333 | G5: =IF('Weight Input'!$D17="A",'Weight Input'!$E17,IF('Weight Input'!$D17="B",1/'Weight Input'!$E17)) -> 0.2 | H5: =IF('Weight Input'!$D18="A",'Weight Input'!$E18,IF('Weight Input'!$D18="B",1/'Weight Input'!$E18)) -> 3
A6: ='Options and Criteria'!E$21 -> Aesthetic Value / Ecosystem Health | B6: =IF(E$3<>0,1/E$3,"-") -> 0.14285714 | C6: =IF(E$4<>0,1/E$4,"-") -> 0.14285714 | D6: =IF(E$5<>0,1/E$5,"-") -> 0.2 | E6: 1 | F6: =IF('Weight Input'!$D19="A",'Weight Input'!$E19,IF('Weight Input'!$D19="B",1/'Weight Input'!$E19)) -> 3 | G6: =IF('Weight Input'!$D20="A",'Weight Input'!$E20,IF('Weight Input'!$D20="B",1/'Weight Input'!$E20)) -> 3 | H6: =IF('Weight Input'!$D21="A",'Weight Input'!$E21,IF('Weight Input'!$D21="B",1/'Weight Input'!$E21)) -> 3
A7: ='Options and Criteria'!F$21 -> Production Costs | B7: =IF(F$3<>0,1/F$3,"-") -> 1 | C7: =IF(F$4<>0,1/F$4,"-") -> 0.14285714 | D7: =IF(F$5<>0,1/F$5,"-") -> 3 | E7: =IF(F$6<>0,1/F$6,"-") -> 0.33333333 | F7: 1 | G7: =IF('Weight Input'!$D22="A",'Weight Input'!$E22,IF('Weight Input'!$D22="B",1/'Weight Input'!$E22)) -> 3 | H7: =IF('Weight Input'!$D23="A",'Weight Input'!$E23,IF('Weight Input'!$D23="B",1/'Weight Input'!$E23)) -> 3
A8: ='Options and Criteria'!G$21 -> Foreign Trade / Exports | B8: =IF(G$3<>0,1/G$3,"-") -> 0.2 | C8: =IF(G$4<>0,1/G$4,"-") -> 0.2 | D8: =IF(G$5<>0,1/G$5,"-") -> 5 | E8: =IF(G$6<>0,1/G$6,"-") -> 0.33333333 | F8: =IF(G$7<>0,1/G$7,"-") -> 0.33333333 | G8: 1 | H8: =IF('Weight Input'!$D24="A",'Weight Input'!$E24,IF('Weight Input'!$D24="B",1/'Weight Input'!$E24)) -> 1
A9: ='Options and Criteria'!H$21 -> Public Costs | B9: =IF(H$3<>0,1/H$3,"-") -> 0.2 | C9: =IF(H$4<>0,1/H$4,"-") -> 0.2 | D9: =IF(H$5<>0,1/H$5,"-") -> 0.33333333 | E9: =IF(H$6<>0,1/H$6,"-") -> 0.33333333 | F9: =IF(H$7<>0,1/H$7,"-") -> 0.33333333 | G9: =IF(H$8<>0,1/H$8,"-") -> 1 | H9: 1
C11: Weight
A12: =A3 -> Food Security | B12: =GEOMEAN(B3:H3) -> 2.0913851 | C12: =B12/$B$19 -> 0.21258705 | D12: =C12 -> 0.21258705
A13: =A4 -> Human Health | B13: =GEOMEAN(B4:H4) -> 4.3738916 | C13: =B13/$B$19 -> 0.44460139 | D13: =C13 -> 0.44460139
A14: =A5 -> Crop Health | B14: =GEOMEAN(B5:H5) -> 0.63138504 | C14: =B14/$B$19 -> 0.064179613 | D14: =C14 -> 0.064179613
A15: =A6 -> Aesthetic Value / Ecosystem Health | B15: =GEOMEAN(B6:H6) -> 0.72974495 | C15: =B15/$B$19 -> 0.074177792 | D15: =C15 -> 0.074177792
A16: =A7 -> Production Costs | B16: =GEOMEAN(B7:H7) -> 1.0365543 | C16: =B16/$B$19 -> 0.10536464 | D16: =C16 -> 0.10536464
A17: =A8 -> Foreign Trade / Exports | B17: =GEOMEAN(B8:H8) -> 0.58053283 | C17: =B17/$B$19 -> 0.05901054 | D17: =C17 -> 0.05901054
A18: =A9 -> Public Costs | B18: =GEOMEAN(B9:H9) -> 0.39428817 | C18: =B18/$B$19 -> 0.04007897 | D18: =C18 -> 0.04007897
A19: TOTAL | B19: =SUM(B12:B18) -> 9.837782 | C19: =SUM(C12:C18) -> 1 | D19: =SUM(D12:D18) -> 1

Sheet Value Calc
A1: Value | B1: Criterion 1 | D1: Criterion 2 | F1: Criterion 3 | H1: Criterion 4 | J1: Criterion 5 | L1: Criterion 6 | N1: Criterion 7
A2: A | B2: =GEOMEAN('Values Input'!C3:L3) -> 4.3086465 | C2: =B2/$B$12 -> 0.29683587 | D2: =GEOMEAN('Values Input'!C17:L17) -> 1.8228272 | E2: =D2/$D$12 -> 0.14720189 | F2: =GEOMEAN('Values Input'!C32:L32) -> 0.79593461 | G2: =F2/$F$12 -> 0.066760985 | H2: =GEOMEAN('Values Input'!C46:L46) -> 0.73752725 | I2: =H2/$H$12 -> 0.052144452 | J2: =GEOMEAN('Values Input'!C60:L60) -> 1.3110194 | K2: =J2/$J$12 -> 0.10484256 | L2: =GEOMEAN('Values Input'!C74:L74) -> 1.0254499 | M2: =L2/$L$12 -> 0.070451103 | N2: =GEOMEAN('Values Input'!C89:L89) -> 0.32744936 | O2: =N2/$N$12 -> 0.028290916
A3: B | B3: =GEOMEAN('Values Input'!C4:L4) -> 2.6211669 | C3: =B3/$B$12 -> 0.18058023 | D3: =GEOMEAN('Values Input'!C18:L18) -> 1.2361805 | E3: =D3/$D$12 -> 0.099827402 | F3: =GEOMEAN('Values Input'!C33:L33) -> 1.8867497 | G3: =F3/$F$12 -> 0.1582558 | H3: =GEOMEAN('Values Input'!C47:L47) -> 2.3304521 | I3: =H3/$H$12 -> 0.164767 | J3: =GEOMEAN('Values Input'!C61:L61) -> 1.0605405 | K3: =J3/$J$12 -> 0.084811691 | L3: =GEOMEAN('Values Input'!C75:L75) -> 2.5811303 | M3: =L3/$L$12 -> 0.17733044 | N3: =GEOMEAN('Values Input'!C90:L90) -> 1.6692867 | O3: =N3/$N$12 -> 0.14422276
A4: C | B4: =GEOMEAN('Values Input'!C5:L5) -> 1.5926448 | C4: =B4/$B$12 -> 0.10972219 | D4: =GEOMEAN('Values Input'!C19:L19) -> 0.31918042 | E4: =D4/$D$12 -> 0.025775324 | F4: =GEOMEAN('Values Input'!C34:L34) -> 0.88047251 | G4: =F4/$F$12 -> 0.073851811 | H4: =GEOMEAN('Values Input'!C48:L48) -> 0.35322385 | I4: =H4/$H$12 -> 0.024973537 | J4: =GEOMEAN('Values Input'!C62:L62) -> 0.39761293 | K4: =J4/$J$12 -> 0.031797207 | L4: =GEOMEAN('Values Input'!C76:L76) -> 3.6178555 | M4: =L4/$L$12 -> 0.24855618 | N4: =GEOMEAN('Values Input'!C91:L91) -> 1.5682823 | O4: =N4/$N$12 -> 0.1354962
A5: D | B5: =GEOMEAN('Values Input'!C6:L6) -> 1.8564085 | C5: =B5/$B$12 -> 0.12789368 | D5: =GEOMEAN('Values Input'!C20:L20) -> 2.0344997 | E5: =D5/$D$12 -> 0.16429544 | F5: =GEOMEAN('Values Input'!C35:L35) -> 1.2457309 | G5: =F5/$F$12 -> 0.10448876 | H5: =GEOMEAN('Values Input'!C49:L49) -> 0.70079855 | I5: =H5/$H$12 -> 0.04954767 | J5: =GEOMEAN('Values Input'!C63:L63) -> 0.76276521 | K5: =J5/$J$12 -> 0.060998527 | L5: =GEOMEAN('Values Input'!C77:L77) -> 1.4269436 | M5: =L5/$L$12 -> 0.098034775 | N5: =GEOMEAN('Values Input'!C92:L92) -> 0.8359588 | O5: =N5/$N$12 -> 0.072225031
A6: E | B6: =GEOMEAN('Values Input'!C7:L7) -> 1.6666599 | C6: =B6/$B$12 -> 0.11482131 | D6: =GEOMEAN('Values Input'!C21:L21) -> 2.2533434 | E6: =D6/$D$12 -> 0.1819681 | F6: =GEOMEAN('Values Input'!C36:L36) -> 1.4269436 | G6: =F6/$F$12 -> 0.11968842 | H6: =GEOMEAN('Values Input'!C50:L50) -> 1.3903892 | I6: =H6/$H$12 -> 0.09830292 | J6: =GEOMEAN('Values Input'!C64:L64) -> 3.6518958 | K6: =J6/$J$12 -> 0.29204303 | L6: =GEOMEAN('Values Input'!C78:L78) -> 2.1779064 | M6: =L6/$L$12 -> 0.1496279 | N6: =GEOMEAN('Values Input'!C93:L93) -> 1.7890972 | O6: =N6/$N$12 -> 0.15457412
A7: F | B7: =GEOMEAN('Values Input'!C8:L8) -> 0.85133992 | C7: =B7/$B$12 -> 0.058651418 | D7: =GEOMEAN('Values Input'!C22:L22) -> 0.52127827 | E7: =D7/$D$12 -> 0.042095679 | F7: =GEOMEAN('Values Input'!C37:L37) -> 0.62307266 | G7: =F7/$F$12 -> 0.052261761 | H7: =GEOMEAN('Values Input'!C51:L51) -> 0.36531106 | I7: =H7/$H$12 -> 0.025828124 | J7: =GEOMEAN('Values Input'!C65:L65) -> 0.68340594 | K7: =J7/$J$12 -> 0.054652146 | L7: =GEOMEAN('Values Input'!C79:L79) -> 0.41810888 | M7: =L7/$L$12 -> 0.028725179 | N7: =GEOMEAN('Values Input'!C94:L94) -> 1.0959582 | O7: =N7/$N$12 -> 0.094688418
A8: G | B8: =GEOMEAN('Values Input'!C9:L9) -> 0.59204378 | C8: =B8/$B$12 -> 0.040787711 | D8: =GEOMEAN('Values Input'!C23:L23) -> 0.52127827 | E8: =D8/$D$12 -> 0.042095679 | F8: =GEOMEAN('Values Input'!C38:L38) -> 0.85133992 | G8: =F8/$F$12 -> 0.071408242 | H8: =GEOMEAN('Values Input'!C52:L52) -> 0.73752725 | I8: =H8/$H$12 -> 0.052144452 | J8: =GEOMEAN('Values Input'!C66:L66) -> 1.5518456 | K8: =J8/$J$12 -> 0.12410148 | L8: =GEOMEAN('Values Input'!C80:L80) -> 0.33563337 | M8: =L8/$L$12 -> 0.023058895 | N8: =GEOMEAN('Values Input'!C95:L95) -> 0.80274156 | O8: =N8/$N$12 -> 0.069355133
A9: H | B9: =GEOMEAN('Values Input'!C10:L10) -> 0.47892989 | C9: =B9/$B$12 -> 0.032994949 | D9: =GEOMEAN('Values Input'!C24:L24) -> 0.61230333 | E9: =D9/$D$12 -> 0.049446381 | F9: =GEOMEAN('Values Input'!C39:L39) -> 0.20534105 | G9: =F9/$F$12 -> 0.017223489 | H9: =GEOMEAN('Values Input'!C53:L53) -> 0.66079378 | I9: =H9/$H$12 -> 0.046719263 | J9: =GEOMEAN('Values Input'!C67:L67) -> 1 | K9: =J9/$J$12 -> 0.079970253 | L9: =GEOMEAN('Values Input'!C81:L81) -> 0.52085117 | M9: =L9/$L$12 -> 0.035783844 | N9: =GEOMEAN('Values Input'!C96:L96) -> 0.38633728 | O9: =N9/$N$12 -> 0.033378705
A10: I | B10: =GEOMEAN('Values Input'!C11:L11) -> 0.29551596 | C10: =B10/$B$12 -> 0.020359001 | D10: =GEOMEAN('Values Input'!C25:L25) -> 2.2533434 | E10: =D10/$D$12 -> 0.1819681 | F10: =GEOMEAN('Values Input'!C40:L40) -> 2.3304521 | G10: =F10/$F$12 -> 0.19547244 | H10: =GEOMEAN('Values Input'!C54:L54) -> 1.9183612 | I10: =H10/$H$12 -> 0.13563145 | J10: =GEOMEAN('Values Input'!C68:L68) -> 1.7320508 | K10: =J10/$J$12 -> 0.13851254 | L10: =GEOMEAN('Values Input'!C82:L82) -> 2.2470044 | M10: =L10/$L$12 -> 0.15437511 | N10: =GEOMEAN('Values Input'!C97:L97) -> 1.8760283 | O10: =N10/$N$12 -> 0.16208478
A11: J | B11: =GEOMEAN('Values Input'!C12:L12) -> 0.25189253 | C11: =B11/$B$12 -> 0.017353649 | D11: =GEOMEAN('Values Input'!C26:L26) -> 0.80894338 | E11: =D11/$D$12 -> 0.065325992 | F11: =GEOMEAN('Values Input'!C41:L41) -> 1.676115 | G11: =F11/$F$12 -> 0.14058829 | H11: =GEOMEAN('Values Input'!C55:L55) -> 4.9495413 | I11: =H11/$H$12 -> 0.34994113 | J11: =GEOMEAN('Values Input'!C69:L69) -> 0.35351349 | K11: =J11/$J$12 -> 0.028270564 | L11: =GEOMEAN('Values Input'!C83:L83) -> 0.20460031 | M11: =L11/$L$12 -> 0.014056579 | N11: =GEOMEAN('Values Input'!C98:L98) -> 1.2232244 | O11: =N11/$N$12 -> 0.10568394
A12: Total | B12: =SUM(B2:B11) -> 14.515249 | C12: =SUM(C2:C11) -> 1 | D12: =SUM(D2:D11) -> 12.383178 | E12: =SUM(E2:E11) -> 1 | F12: =SUM(F2:F11) -> 11.922152 | G12: =SUM(G2:G11) -> 1 | H12: =SUM(H2:H11) -> 14.143925 | I12: =SUM(I2:I11) -> 1 | ... O12: =SUM(O2:O11) -> 1
A14: Overall Score
A15: ='Options and Criteria'!B9 -> Bactrocera carambolae (Carambola Fruit Fly) | B15: =(C2*'Weight Calc'!$C$12)+('Value Calc'!E2*'Weight Calc'!$C$13)+('Value Calc'!G2*'Weight Calc'!$C$14)+('Value Calc'!I2*'Weight Calc'!$C$15)+('Value Calc'!K2*'Weight Calc'!$C$16)+('Value Calc'!M2*'Weight Calc'!$C$17)+('Value Calc'!O2*'Weight Calc'!$C$18) -> 0.15304021 | C15: =A2 -> A
A16: ='Options and Criteria'!B10 -> Fusarium oxysporum f.sp. cubense Race 4 (Banana Wilt) | B16: =(C3*'Weight Calc'!$C$12)+('Value Calc'!E3*'Weight Calc'!$C$13)+('Value Calc'!G3*'Weight Calc'!$C$14)+('Value Calc'!I3*'Weight Calc'!$C$15)+('Value Calc'!K3*'Weight Calc'!$C$16)+('Value Calc'!M3*'Weight Calc'!$C$17)+('Value Calc'!O3*'Weight Calc'!$C$18) -> 0.13033209 | C16: =A3 -> B
A17: ='Options and Criteria'!B11 -> Moniliopthora roreri (Cocoa Frosty Pod) | B17: =(C4*'Weight Calc'!$C$12)+('Value Calc'!E4*'Weight Calc'!$C$13)+('Value Calc'!G4*'Weight Calc'!$C$14)+('Value Calc'!I4*'Weight Calc'!$C$15)+('Value Calc'!K4*'Weight Calc'!$C$16)+('Value Calc'!M4*'Weight Calc'!$C$17)+('Value Calc'!O4*'Weight Calc'!$C$18) -> 0.064825807 | C17: =A4 -> C
A18: ='Options and Criteria'!B12 -> Tuta absoluta (Tomato Leaf Miner) | B18: =(C5*'Weight Calc'!$C$12)+('Value Calc'!E5*'Weight Calc'!$C$13)+('Value Calc'!G5*'Weight Calc'!$C$14)+('Value Calc'!I5*'Weight Calc'!$C$15)+('Value Calc'!K5*'Weight Calc'!$C$16)+('Value Calc'!M5*'Weight Calc'!$C$17)+('Value Calc'!O5*'Weight Calc'!$C$18) -> 0.12572279 | C18: =A5 -> D
A19: ='Options and Criteria'!B13 -> Ceratitis capitata (Meditteranean Fruit Fly) | B19: =(C6*'Weight Calc'!$C$12)+('Value Calc'!E6*'Weight Calc'!$C$13)+('Value Calc'!G6*'Weight Calc'!$C$14)+('Value Calc'!I6*'Weight Calc'!$C$15)+('Value Calc'!K6*'Weight Calc'!$C$16)+('Value Calc'!M6*'Weight Calc'!$C$17)+('Value Calc'!O6*'Weight Calc'!$C$18) -> 0.16608205 | C19: =A6 -> E
A20: ='Options and Criteria'!B14 -> Citrus leprosis virus | B20: =(C7*'Weight Calc'!$C$12)+('Value Calc'!E7*'Weight Calc'!$C$13)+('Value Calc'!G7*'Weight Calc'!$C$14)+('Value Calc'!I7*'Weight Calc'!$C$15)+('Value Calc'!K7*'Weight Calc'!$C$16)+('Value Calc'!M7*'Weight Calc'!$C$17)+('Value Calc'!O7*'Weight Calc'!$C$18) -> 0.047702848 | C20: =A7 -> F
A21: ='Options and Criteria'!B15 -> Xanthomonas citri subsp. citri (Citrus canker) | B21: =(C8*'Weight Calc'!$C$12)+('Value Calc'!E8*'Weight Calc'!$C$13)+('Value Calc'!G8*'Weight Calc'!$C$14)+('Value Calc'!I8*'Weight Calc'!$C$15)+('Value Calc'!K8*'Weight Calc'!$C$16)+('Value Calc'!M8*'Weight Calc'!$C$17)+('Value Calc'!O8*'Weight Calc'!$C$18) -> 0.053053958 | C21: =A8 -> G
A22: ='Options and Criteria'!B16 -> Mononychellus tanajoa (Cassava Mite) | B22: =(C9*'Weight Calc'!$C$12)+('Value Calc'!E9*'Weight Calc'!$C$13)+('Value Calc'!G9*'Weight Calc'!$C$14)+('Value Calc'!I9*'Weight Calc'!$C$15)+('Value Calc'!K9*'Weight Calc'!$C$16)+('Value Calc'!M9*'Weight Calc'!$C$17)+('Value Calc'!O9*'Weight Calc'!$C$18) -> 0.045444603 | C22: =A9 -> H
A23: ='Options and Criteria'!B17 -> Ralstonia solanaecearum (Races 2 {Moko Disease}& 3) | B23: =(C10*'Weight Calc'!$C$12)+('Value Calc'!E10*'Weight Calc'!$C$13)+('Value Calc'!G10*'Weight Calc'!$C$14)+('Value Calc'!I10*'Weight Calc'!$C$15)+('Value Calc'!K10*'Weight Calc'!$C$16)+('Value Calc'!M10*'Weight Calc'!$C$17)+('Value Calc'!O10*'Weight Calc'!$C$18) -> 0.13803779 | C23: =A10 -> I
A24: ='Options and Criteria'!B18 -> Rhynchophorus ferrugineus (Red Palm Weevil) | B24: =(C11*'Weight Calc'!$C$12)+('Value Calc'!E11*'Weight Calc'!$C$13)+('Value Calc'!G11*'Weight Calc'!$C$14)+('Value Calc'!I11*'Weight Calc'!$C$15)+('Value Calc'!K11*'Weight Calc'!$C$16)+('Value Calc'!M11*'Weight Calc'!$C$17)+('Value Calc'!O11*'Weight Calc'!$C$18) -> 0.075757858 | C24: =A11 -> J
